Workbook

Sheet Budżet
B2: Załącznik nr 1 do oferty
B3: Edycja 2025
C4: Przystanek - Czas na Podkarpacką Młodzież! Edycja 2024-2026
C6: Sfinansowano ze środków Narodowego Instytutu Wolności – Centrum Rozwoju Społeczeństwa Obywatelskiego w ramach Rządowego Programu Fundusz Młodzieżowy na lata 2022 – 2033.
C8: Nazwa Patrona:
C9: Nazwa organizacji młodzieżowej:
C10: Nazwa inicjatywy:
C11: Termin realizacji inicjatywy (od: do:):
B14: Poz. | C14: Nazwa wydatku | D14: Rodzaj miary | E14: Koszt jednostkowy | F14: Liczba jednostek | G14: Suma
B15: I. Koszty bieżące | J15: Podsumowanie | K15: Kwota | L15: Udział %
B16: I.1 | G16: ='Budżet'!$E16*'Budżet'!$F16 -> 0 | J16: Wartość całej mikrodotacji | K16: =G46 -> 0 | L16: 1
B17: I.2 | G17: ='Budżet'!$E17*'Budżet'!$F17 -> 0 | J17: I. Koszty bieżące | K17: =G35 -> 0 | L17: =K17/K16 -> #DIV/0!
B18: I.3 | G18: ='Budżet'!$E18*'Budżet'!$F18 -> 0 | J18: II. Koszty adminsitracyjne | K18: =G40 -> 0 | L18: =K18/K16 -> #DIV/0!
B19: … | G19: ='Budżet'!$E19*'Budżet'!$F19 -> 0 | J19: III. Koszty roz. Instytucjonalnego | K19: =G45 -> 0 | L19: =K19/K16 -> #DIV/0!
G20: ='Budżet'!$E20*'Budżet'!$F20 -> 0
G21: ='Budżet'!$E21*'Budżet'!$F21 -> 0
G22: ='Budżet'!$E22*'Budżet'!$F22 -> 0
G23: ='Budżet'!$E23*'Budżet'!$F23 -> 0
G24: ='Budżet'!$E24*'Budżet'!$F24 -> 0
G25: ='Budżet'!$E25*'Budżet'!$F25 -> 0
G26: ='Budżet'!$E26*'Budżet'!$F26 -> 0
G27: ='Budżet'!$E27*'Budżet'!$F27 -> 0
G28: ='Budżet'!$E28*'Budżet'!$F28 -> 0
G29: ='Budżet'!$E29*'Budżet'!$F29 -> 0
G30: ='Budżet'!$E30*'Budżet'!$F30 -> 0
G31: ='Budżet'!$E31*'Budżet'!$F31 -> 0
... G34: ='Budżet'!$E34*'Budżet'!$F34 -> 0
B35: Suma | C35: wydatków bieżących: | G35: =SUM(G16:G34) -> 0
B36: II. Koszty | C36: administracyjne
B37: II.1 | G37: ='Budżet'!$E37*'Budżet'!$F37 -> 0
B38: II.2 | G38: ='Budżet'!$E38*'Budżet'!$F38 -> 0
B39: II.3 | G39: ='Budżet'!$E39*'Budżet'!$F39 -> 0
B40: Suma | C40: kosztów administracyjnych: | G40: =SUM(G37:G39) -> 0
B41: III. Koszty | C41: rozwoju instytucjonalnego:
B42: III.1 | G42: ='Budżet'!$E42*'Budżet'!$F42 -> 0
B43: III.2 | G43: ='Budżet'!$E43*'Budżet'!$F43 -> 0
B44: III.3 | G44: ='Budżet'!$E44*'Budżet'!$F44 -> 0
B45: Suma | C45: kosztów rozwoju instytucjonalnego | G45: =SUM(G42:G44) -> 0
B46: Suma: | G46: =G35+G40+G45 -> 0
D49: Załącznik nr 1 do oferty musi zostać podpisany przez osoby upoważnione do składania oświadczeń woli zgodnie ze sposobem reprezentacji określonym w statucie, rejestrze lub innym dokumencie regulującym kwestie reprezentacji danego podmiotu - Patrona.
...

Sheet Instrukcja
B3: INSTRUKCJA
B4: Pozycja | C4: Liczba porządkowa ze względu na kategorię kosztów.
B5: Nazwa wydatku | C5: Wskaż nazwę wydatku np. honorarium artysty.
B6: Rodzaj miary | C6: Wskaż rodzaj miary np. godzina, zestaw, miesiąc, usługa.
B7: Koszt jednostkowy | C7: Wskaż kwotę jednostkową dla danego wydatku.
B8: Liczba jednostek | C8: Wskaż liczbę jednostek dla danego wydatku.
B9: ZAPAMIĘTAJ
B10: Udział procentowy dla kategorii I (koszty bieżące) musi wynieść minimum 60% wartości całej mikrodotacji.
B11: Udział procentowy dla kategorii II (koszty administracyjne) może wynieść max 25% wartości mikrodotacji.
B12: Udział procentowy dla kategorii III (koszty rozwoju instytucjonalnego) może wynieść max 20% wartości całej mikrodotacji.
B13: INNE UWAGI
B14: Każdy wydatek w kategorii III należy uzasadnić we wniosku w punkcie V. Uwagi. Brak uzasadnienie oznaczać będzie niekwalifikowalność wydatku.
B15: Dla każdego wydatku zawierającego rodzaj miary zestaw lub komplet we wniosku w punkcie V. Uwagi należy opisać co każdorazowo wchodzi w skład danego zestawu lub kompletu.
B16: W razie potrzeby, dodaj w kosztorysie kolejny wiersz. Zwróć uwagę, czy dodanie wiersza nie spowodowało negatywnego wpływu na obliczenia arkusza. W takiej sytuacji skontaktuj się z Operatorem.
B17: Arkusz został opracowany w sposób zapewniający automatyczne naliczanie wartości w kolumnach SUMA (kolumna G), KWOTA (kolumna K) oraz UDZIAŁ % (kolumna L)- nie należy samodzielnie wpisywać wartości w tych miejscach!
B18: Podczas składania oferty wraz z załącznikiem, pamiętaj aby wydrukowany kosztorys był czytelny
B19: Pamiętaj, aby załącznik podpisać zgodnie z zasadami reprezentacji Patrona lub pełnomocnictwem!
B21: W przypadku pytań, skontaktuj się z Opertorem
B22: tel. | C22: 694919498
B23: e-mail | C23: kontakt@fmo.com.pl
